BEGIN:VCALENDAR
VERSION:2.0
PRODID:-//ABC AnwaltsBeratung Cosack - ECPv6.15.20//NONSGML v1.0//EN
CALSCALE:GREGORIAN
METHOD:PUBLISH
X-WR-CALNAME:ABC AnwaltsBeratung Cosack
X-ORIGINAL-URL:https://www.abc-anwalt.de
X-WR-CALDESC:Veranstaltungen für ABC AnwaltsBeratung Cosack
REFRESH-INTERVAL;VALUE=DURATION:PT1H
X-Robots-Tag:noindex
X-PUBLISHED-TTL:PT1H
BEGIN:VTIMEZONE
TZID:Europe/Berlin
BEGIN:DAYLIGHT
TZOFFSETFROM:+0100
TZOFFSETTO:+0200
TZNAME:CEST
DTSTART:20230326T010000
END:DAYLIGHT
BEGIN:STANDARD
TZOFFSETFROM:+0200
TZOFFSETTO:+0100
TZNAME:CET
DTSTART:20231029T010000
END:STANDARD
BEGIN:DAYLIGHT
TZOFFSETFROM:+0100
TZOFFSETTO:+0200
TZNAME:CEST
DTSTART:20240331T010000
END:DAYLIGHT
BEGIN:STANDARD
TZOFFSETFROM:+0200
TZOFFSETTO:+0100
TZNAME:CET
DTSTART:20241027T010000
END:STANDARD
BEGIN:DAYLIGHT
TZOFFSETFROM:+0100
TZOFFSETTO:+0200
TZNAME:CEST
DTSTART:20250330T010000
END:DAYLIGHT
BEGIN:STANDARD
TZOFFSETFROM:+0200
TZOFFSETTO:+0100
TZNAME:CET
DTSTART:20251026T010000
END:STANDARD
END:VTIMEZONE
BEGIN:VEVENT
DTSTART;VALUE=DATE:20240911
DTEND;VALUE=DATE:20240914
DTSTAMP:20260421T233532
CREATED:20240903T100642Z
LAST-MODIFIED:20240903T100642Z
UID:3630-1726012800-1726271999@www.abc-anwalt.de
SUMMARY:33. EDV-Gerichtstag
DESCRIPTION:Der 33. EDVGT\n\nUnter dem Motto „Recht im Umbruch – KI als Gamechanger?“ findet von 11. bis 13. September 2024 der 33. EDVGT statt. \nIlona Cosack ist vor Ort und freut sich auf persönliche Begegnungen. \nEs gibt folgende Arbeitskreise: \n\n\nMittwoch\, 11. September 2024\n\n\n\n\n\n\n\n\nUhrzeit\nProgrammpunkt\nOrt\n\n\n14:00\nVeranstaltung zur IT-Sicherheit (Teil I)\nHörsaal 0.19\n\n\n15:30\nPause\n\n\n\n15:45\nVeranstaltung zur IT-Sicherheit (Teil II)\nHörsaal 0.19\n\n\n19:00\n„Get Together“ der juris GmbH\n\n\n\n\n\n\n\n\n\nDonnerstag\, 12. September 2024\n\n\n\n\n\n\n\n\nUhrzeit\nProgrammpunkt\nOrt\n\n\n13:00\nDigitale Beweise I – Digitalisierung statt PDFisierung der Justiz: Vom Umgang mit elektronischen Beweismitteln. Ein Bericht aus der Schweiz und die deutsche Sicht\nModeration: Dr. Thomas LappReferierende: Daniel Kettiger\, Claudia Schreiber\nHörsaal 0.23\n\n\n13:00\nKI und Datenschutz\nModeration: Stefan Hessel LL.M\nReferierende: Dr. Philipp Richter\, Dr. Stefan Brink\nHörsaal 0.22\n\n\n13:00\nJustice Operations\nModeration:  Isabelle Desireé Biallaß\,  Dr. Bernhard Waltl\nReferierende: Bernadette Kell\, Prof. Dr. Bettina Mielke\, Jörg Müller\, Henning Schumacher\, Dr. Jens Wagner\nHörsaal 0.19\n\n\n13:00\nAktuelle Entwicklungen im Angebotsspektrum Juristischer Fachverlage\nModeration: Prof. Dr. Heribert AnzingerReferierende: Prof. Dr. Marie Herberger\, Dr. Dr. Oliver Hofmann LL.M.\, Franz Kummer\, Dr. Wolfgang Pichler\, Dr. Jörg Reichert\, Andre Schaper\, Dr. Dirk Schrameyer LL.M.\nHörsaal 0.06\n\n\n14:00\nKaffeepause\n\n\n\n14:30\nDigitale Beweise II: Vom Screenshot zum Metaverse: Über die Zukunft der digitalen Beweisaufnahme \nModeration: Isabelle Desireé Biallaß \nReferierende: Prof. Dr. Simon Heetkamp\, Gesine Irskens\nHörsaal 0.22\n\n\n14:30\nGenerative KI-Systeme und Urheberrecht\nModeration: Prof. Dr. Borges\nReferierende: Dr. Andreas Sesing-Wagenpfeil\, Dr. Axel Grätz\nHörsaal 0.23 \n\n\n\n\n\n\n14:30\n„Was macht Digitalisierung mit Verwaltungen und Gerichten und den dort Tätigen?“  (Schnittstellenarbeitskreis eGovernment/eJustice)\nModeration: Prof. Dr. Uwe-Dietmar Berlit\, Dr. Astrid Schumacher\nReferierende: Valentina Kerst\, Stefanie Otte\nHörsaal 0.19 \n\n\n\n\n\n\n14:30\nAktuelle Entwicklungen im Angebotsspektrum Juristischer Fachverlage – KI-Anwendungen\nModeration: Prof. Dr. Anzinger\, Dr. Jörn ErbguthReferierende: Prof. Dr. Marie Herberger\, Dr. Dr. Oliver Hofmann LL.M.\, Franz Kummer\, Dr. Wolfgang Pichler\, Dr. Jörg Reichert\, Andre Schaper\, Dr. Dirk Schrameyer LL.M.\nHörsaal 0.06\n\n\n14:30\nArbeitskreis Barrierefreiheit: Digitale Barrierefreiheit in der Justiz – Vorlagen und Beispiel für Ausschreibungs- und Vergabeunterlagen \nModeration: Florian Strunk\nReferierender: Andreas Carstens \n \nHörsaal\n\n\n15:30\nKaffeepause\n\n\n\n16:00\nDigitale Beweise III: Deep Fake\nModeration: Dr. Thomas Lapp\nReferierende: Prof. Dr. Martin Steinebach\, Prof. Dr. Christian Gomille\nHörsaal 0.23 \n\n\n\n\n\n\n16:00\nKI-Verordnung\n(Prof. Dr. Georg Borges)\nHörsaal 0.19 \n\n\n\n\n\n\n16:00\nBesondere elektronische Postfächer\nModeration: Daniela Freiheit\nReferierende: Björn Beck\, Mario Hilzinger\, Marc Horstmann\nHörsaal 0.22\n\n\n16:00\nModernisierung des IT-Strafrechts: Rechtssicherheit (nicht nur) für die IT-Sicherheitsforschung?\nModeration: Prof. Dr. Dominik BrodowskiReferierende: Dr. Monika Becker\, OStA Philipp Kuhn\,  Jens Ferner\, Dr. Tobias Fiebig\nHörsaal 0.06\n\n\n\n\n\n\n\n\nFreitag\, 13. September 2024\n\n\n\n\n\n\n\n\nUhrzeit\nProgrammpunkt\nOrt\n\n\n9:00\nAnonymisierung von Gerichtsentscheiden: Datenschutz und freie Sekundärpublikation \nModeration: Dr. Jörn Erbguth \nReferierende: Benjamin Bremert\, Daniel Kettiger\nHörsaal 0.23\n\n\n9:00\n„Gewaltenteilung zwischen Mensch und Maschine?“ Zur Reichweite richterlicher Unabhängigkeit beim Einsatz generativer KI\nModeration: Prof. Dr. Anne Paschke\nReferierende: Prof. Dr. Dirk Heckmann\, Chan-jo Jun\, Ingrid Kaps\nHörsaal 0.19\n\n\n9:00\nDigitale Normen – Vom Regelungsziel zum Referentenentwurf\nModeration: Prof. Dr. Heribert Anzinger\, Prof. Dr. Wilfried BernhardtReferierende:  Prof. Dr. Jörn von Lucke\, Prof. Dr. Stephan Breidenbach\, Marie Luise Graf-Schlicker\, Bernadette Kell\, Malte Spitz\nHörsaal 0.06\n\n\n10:30\nKaffeepause\n\n\n\n11:00\nDisruption der Rechtspraxis durch Sprachmodelle – Eine gemeinsame Bestandsaufnahme\nModeration: Prof. Dr. Matthias Grabmair\, Ph.D.\, LL.M.Referierende: Dr. Bettina Mielke\, Bernadette Kell\, Gesine Irskens\, Tilmann Dach\, Marieke Merkle\nHörsaal 0.19\n\n\n11:00\nZugang zum Recht über service.justiz.de: Über die Zusammenarbeit in der digitalen Produktentwicklung – Von Nutzerbedürfnissen über Länderinteressen zu einheitlichen Lösungen für die deutsche Justiz\nModeration: Isabelle Desireé Biallaß\nReferierende: Dr. Sarah Röck\, Felix Völkel\, Moritz van Hövell\, Christoph Böhmer\nHörsaal 0.06\n\n\n11:00\nEuropaarbeitskreis – eIDAS 2.0: Zukunft der elektronischen Identifizierung in Europa \nModeration: Prof. Dr. Wilfried Bernhardt\nReferierende: Norbert Sagstetter\, Mirja Rasmusson\, Hagen Saxowski\, Dr. Ingmar Stein\, Hofrat Dr. Martin Schneider\, Dr. Thomas Gottwald\, Christian Drews\nHörsaal 0.23\n\n\n12:30\nEnde der Tagung\n\n\n\n\n\n\n  \n  \n 
URL:https://www.abc-anwalt.de/event/33-edv-gerichtstag/
LOCATION:Saarbrücken\, Universität des Saarlandes\, Campus C 3.1\, Saarbrücken\, 66123
CATEGORIES:EDV-Gerichtstag
ATTACH;FMTTYPE=image/png:https://www.abc-anwalt.de/wp-content/uploads/EDVGT_Logo-1.png
END:VEVENT
END:VCALENDAR